BEGIN:VCALENDAR
VERSION:2.0
PRODID:-//lesvolaillesdugrimois - ECPv6.15.20//NONSGML v1.0//EN
CALSCALE:GREGORIAN
METHOD:PUBLISH
X-WR-CALNAME:lesvolaillesdugrimois
X-ORIGINAL-URL:https://lesvolaillesdugrimois.fr
X-WR-CALDESC:Évènements pour lesvolaillesdugrimois
REFRESH-INTERVAL;VALUE=DURATION:PT1H
X-Robots-Tag:noindex
X-PUBLISHED-TTL:PT1H
BEGIN:VTIMEZONE
TZID:Europe/Paris
BEGIN:DAYLIGHT
TZOFFSETFROM:+0100
TZOFFSETTO:+0200
TZNAME:CEST
DTSTART:20250330T010000
END:DAYLIGHT
BEGIN:STANDARD
TZOFFSETFROM:+0200
TZOFFSETTO:+0100
TZNAME:CET
DTSTART:20251026T010000
END:STANDARD
BEGIN:DAYLIGHT
TZOFFSETFROM:+0100
TZOFFSETTO:+0200
TZNAME:CEST
DTSTART:20260329T010000
END:DAYLIGHT
BEGIN:STANDARD
TZOFFSETFROM:+0200
TZOFFSETTO:+0100
TZNAME:CET
DTSTART:20261025T010000
END:STANDARD
BEGIN:DAYLIGHT
TZOFFSETFROM:+0100
TZOFFSETTO:+0200
TZNAME:CEST
DTSTART:20270328T010000
END:DAYLIGHT
BEGIN:STANDARD
TZOFFSETFROM:+0200
TZOFFSETTO:+0100
TZNAME:CET
DTSTART:20271031T010000
END:STANDARD
END:VTIMEZONE
BEGIN:VEVENT
DTSTART;TZID=Europe/Paris:20260422T080000
DTEND;TZID=Europe/Paris:20260422T123000
DTSTAMP:20260422T121145
CREATED:20240301T133504Z
LAST-MODIFIED:20260131T143400Z
UID:3807-1776844800-1776861000@lesvolaillesdugrimois.fr
SUMMARY:Brou - marchés
DESCRIPTION:Tous les mercredis matin de 8h à 12h30 (toute l’année)
URL:https://lesvolaillesdugrimois.fr/evenement/brou-marches-8/
LOCATION:Brou\, Brou\, Eure et Loir\, 28160\, France
CATEGORIES:Brou,Les marchés
END:VEVENT
BEGIN:VEVENT
DTSTART;TZID=Europe/Paris:20260422T100000
DTEND;TZID=Europe/Paris:20260422T120000
DTSTAMP:20260422T121145
CREATED:20240301T103851Z
LAST-MODIFIED:20260131T143424Z
UID:3740-1776852000-1776859200@lesvolaillesdugrimois.fr
SUMMARY:Connerré - Marché
DESCRIPTION:Mercredi matin de 10h à 12h (toutes les semaines d’avril à juin et 1 fois tous les 15 jours de juillet à octobre)
URL:https://lesvolaillesdugrimois.fr/evenement/connerre-point-de-vente-8/
LOCATION:Connerré\, Connerré\, sarthe\, France
CATEGORIES:Connerré,Les marchés
END:VEVENT
END:VCALENDAR