BEGIN:VCALENDAR
VERSION:2.0
PRODID:-//lesvolaillesdugrimois - ECPv6.15.20//NONSGML v1.0//EN
CALSCALE:GREGORIAN
METHOD:PUBLISH
X-WR-CALNAME:lesvolaillesdugrimois
X-ORIGINAL-URL:https://lesvolaillesdugrimois.fr
X-WR-CALDESC:Évènements pour lesvolaillesdugrimois
REFRESH-INTERVAL;VALUE=DURATION:PT1H
X-Robots-Tag:noindex
X-PUBLISHED-TTL:PT1H
BEGIN:VTIMEZONE
TZID:Europe/Paris
BEGIN:DAYLIGHT
TZOFFSETFROM:+0100
TZOFFSETTO:+0200
TZNAME:CEST
DTSTART:20250330T010000
END:DAYLIGHT
BEGIN:STANDARD
TZOFFSETFROM:+0200
TZOFFSETTO:+0100
TZNAME:CET
DTSTART:20251026T010000
END:STANDARD
BEGIN:DAYLIGHT
TZOFFSETFROM:+0100
TZOFFSETTO:+0200
TZNAME:CEST
DTSTART:20260329T010000
END:DAYLIGHT
BEGIN:STANDARD
TZOFFSETFROM:+0200
TZOFFSETTO:+0100
TZNAME:CET
DTSTART:20261025T010000
END:STANDARD
BEGIN:DAYLIGHT
TZOFFSETFROM:+0100
TZOFFSETTO:+0200
TZNAME:CEST
DTSTART:20270328T010000
END:DAYLIGHT
BEGIN:STANDARD
TZOFFSETFROM:+0200
TZOFFSETTO:+0100
TZNAME:CET
DTSTART:20271031T010000
END:STANDARD
END:VTIMEZONE
BEGIN:VEVENT
DTSTART;TZID=Europe/Paris:20260421T100000
DTEND;TZID=Europe/Paris:20260421T120000
DTSTAMP:20260421T105112
CREATED:20240229T134545Z
LAST-MODIFIED:20260131T143340Z
UID:3255-1776765600-1776772800@lesvolaillesdugrimois.fr
SUMMARY:Savigné l'evêque - point de vente
DESCRIPTION:Sur le parking de Maison.fr – Route de St Corneille\nMardi matin de 10h à 12h (1 fois tous les 15 jours de mars à septembre)
URL:https://lesvolaillesdugrimois.fr/evenement/savigne-leveque-point-de-vente-4/
LOCATION:Savigné l’evêque\, Route de St Corneille\, Savigné-l'Évêque\, sarthe\, 72460\, France
CATEGORIES:Les points de vente,Savigné l'evêque
END:VEVENT
END:VCALENDAR