BEGIN:VCALENDAR
VERSION:2.0
PRODID:-//lesvolaillesdugrimois - ECPv6.15.20//NONSGML v1.0//EN
CALSCALE:GREGORIAN
METHOD:PUBLISH
X-WR-CALNAME:lesvolaillesdugrimois
X-ORIGINAL-URL:https://lesvolaillesdugrimois.fr
X-WR-CALDESC:Évènements pour lesvolaillesdugrimois
REFRESH-INTERVAL;VALUE=DURATION:PT1H
X-Robots-Tag:noindex
X-PUBLISHED-TTL:PT1H
BEGIN:VTIMEZONE
TZID:Europe/Paris
BEGIN:DAYLIGHT
TZOFFSETFROM:+0100
TZOFFSETTO:+0200
TZNAME:CEST
DTSTART:20250330T010000
END:DAYLIGHT
BEGIN:STANDARD
TZOFFSETFROM:+0200
TZOFFSETTO:+0100
TZNAME:CET
DTSTART:20251026T010000
END:STANDARD
BEGIN:DAYLIGHT
TZOFFSETFROM:+0100
TZOFFSETTO:+0200
TZNAME:CEST
DTSTART:20260329T010000
END:DAYLIGHT
BEGIN:STANDARD
TZOFFSETFROM:+0200
TZOFFSETTO:+0100
TZNAME:CET
DTSTART:20261025T010000
END:STANDARD
BEGIN:DAYLIGHT
TZOFFSETFROM:+0100
TZOFFSETTO:+0200
TZNAME:CEST
DTSTART:20270328T010000
END:DAYLIGHT
BEGIN:STANDARD
TZOFFSETFROM:+0200
TZOFFSETTO:+0100
TZNAME:CET
DTSTART:20271031T010000
END:STANDARD
END:VTIMEZONE
BEGIN:VEVENT
DTSTART;TZID=Europe/Paris:20260420T100000
DTEND;TZID=Europe/Paris:20260420T103000
DTSTAMP:20260420T114858
CREATED:20240229T105719Z
LAST-MODIFIED:20260131T143323Z
UID:3202-1776679200-1776681000@lesvolaillesdugrimois.fr
SUMMARY:La Ferté-Bernard - point de vente
DESCRIPTION:Sur le parking de Maison.fr – Espace du Lac\nLundi matin de 10h à 12h (1 fois tous les 15 jours de février à octobre)
URL:https://lesvolaillesdugrimois.fr/evenement/la-ferte-bernard-point-de-vente-4/
CATEGORIES:La Ferté-Bernard,Les points de vente
END:VEVENT
BEGIN:VEVENT
DTSTART;TZID=Europe/Paris:20260420T100000
DTEND;TZID=Europe/Paris:20260420T113000
DTSTAMP:20260420T114858
CREATED:20240229T084334Z
LAST-MODIFIED:20260131T143306Z
UID:3086-1776679200-1776684600@lesvolaillesdugrimois.fr
SUMMARY:Mamers - point de vente
DESCRIPTION:Sur le parking de Bricomarché – Rue de Bois Bourdon\nLundi matin de 10h à 12h (toutes les semaines de février à juin et 1 fois tous les 15 jours de juillet à octobre)
URL:https://lesvolaillesdugrimois.fr/evenement/mamers-point-de-vente-6/
LOCATION:Mamers\, Rue du Bois Bourdon\, Mamers\, sarthe\, 72600\, France
CATEGORIES:Les points de vente,Mamers
END:VEVENT
END:VCALENDAR